BEGIN:VCALENDAR
VERSION:2.0
PRODID:-//Ecume Montpellier - ECPv6.15.20//NONSGML v1.0//EN
CALSCALE:GREGORIAN
METHOD:PUBLISH
X-WR-CALNAME:Ecume Montpellier
X-ORIGINAL-URL:https://ecume-montpellier.fr
X-WR-CALDESC:Évènements pour Ecume Montpellier
REFRESH-INTERVAL;VALUE=DURATION:PT1H
X-Robots-Tag:noindex
X-PUBLISHED-TTL:PT1H
BEGIN:VTIMEZONE
TZID:Europe/Paris
BEGIN:DAYLIGHT
TZOFFSETFROM:+0100
TZOFFSETTO:+0200
TZNAME:CEST
DTSTART:20240331T010000
END:DAYLIGHT
BEGIN:STANDARD
TZOFFSETFROM:+0200
TZOFFSETTO:+0100
TZNAME:CET
DTSTART:20241027T010000
END:STANDARD
BEGIN:DAYLIGHT
TZOFFSETFROM:+0100
TZOFFSETTO:+0200
TZNAME:CEST
DTSTART:20250330T010000
END:DAYLIGHT
BEGIN:STANDARD
TZOFFSETFROM:+0200
TZOFFSETTO:+0100
TZNAME:CET
DTSTART:20251026T010000
END:STANDARD
BEGIN:DAYLIGHT
TZOFFSETFROM:+0100
TZOFFSETTO:+0200
TZNAME:CEST
DTSTART:20260329T010000
END:DAYLIGHT
BEGIN:STANDARD
TZOFFSETFROM:+0200
TZOFFSETTO:+0100
TZNAME:CET
DTSTART:20261025T010000
END:STANDARD
END:VTIMEZONE
BEGIN:VEVENT
DTSTART;TZID=Europe/Paris:20250601T181500
DTEND;TZID=Europe/Paris:20250601T190000
DTSTAMP:20260419T184133
CREATED:20250430T101015Z
LAST-MODIFIED:20250513T092012Z
UID:2511-1748801700-1748804400@ecume-montpellier.fr
SUMMARY:Hérault les Chœurs 2025
DESCRIPTION:Chaque année le festival Hérault les Chœurs réunit de nombreuses chorales de la région pour une journée de fête et de musique dans le cadre exceptionnel des jardins du Domaine d’O. \nCette année le festival a lieu le dimanche 1er juin 2025 et Ecume a l’honneur de faire le concert de clôture. \nLe spectacle sera à 18h15 à la scène des Micocouliers mais nous vous conseillons cependant de venir dès le matin pour profiter toute la journée des divers spectacles. \nGratuit sans réservation\, restauration et buvette sur place disponible\, en plein air prévoyez la crème solaire !
URL:https://ecume-montpellier.fr/event/herault-les-choeurs-2025/
LOCATION:Domaine d’Ô\, Montpellier\, 178 rue de la Carrierasse\, Montpellier\, 34090\, France
CATEGORIES:Concert,Festival
END:VEVENT
BEGIN:VEVENT
DTSTART;TZID=Europe/Paris:20250608T200000
DTEND;TZID=Europe/Paris:20250608T213000
DTSTAMP:20260419T184133
CREATED:20250430T080953Z
LAST-MODIFIED:20250430T091749Z
UID:2450-1749412800-1749418200@ecume-montpellier.fr
SUMMARY:Concert Ensemble Choral – Let Us Shine – Maison des Chœurs
DESCRIPTION:Cette année encore\, l’Ensemble Choral Universitaire de Montpellier ECUME vous présente un spectacle original\, dirigé par nos chef de chœur\, Léo Richomme\, et pianiste\, Christèle Chambourbon.\n \n\n    Au programme\, Eric Whitacre\, Leonard Bernstein\, Stephan Nicolay et bien d’autres. En ces temps incertains\, comment faire vivre la lumière qui est en nous et qui nous anime ? Par la musique ! ECUME vous propose un parcours musical vibrant pour transcender nos différences et unir nos cœurs. Let Us Shine !\n \n\n \nBilletterie
URL:https://ecume-montpellier.fr/event/concert-ensemble-choral-let-us-shine-maison-des-choeurs-2/
LOCATION:Maison des Chœurs\, Montpellier\, Place Albert 1er\, Montpellier\, 34090\, France
CATEGORIES:Concert
END:VEVENT
BEGIN:VEVENT
DTSTART;TZID=Europe/Paris:20250609T180000
DTEND;TZID=Europe/Paris:20250609T193000
DTSTAMP:20260419T184133
CREATED:20250430T081234Z
LAST-MODIFIED:20250513T091749Z
UID:2454-1749492000-1749497400@ecume-montpellier.fr
SUMMARY:Concert Ensemble Choral – Let Us Shine – Maison des Chœurs
DESCRIPTION:Cette année encore\, l’Ensemble Choral Universitaire de Montpellier ECUME vous présente un spectacle original\, dirigé par nos chef de chœur\, Léo Richomme\, et pianiste\, Christèle Chambourbon.\n \n\n    Au programme\, Eric Whitacre\, Leonard Bernstein\, Stephan Nicolay et bien d’autres. En ces temps incertains\, comment faire vivre la lumière qui est en nous et qui nous anime ? Par la musique ! ECUME vous propose un parcours musical vibrant pour transcender nos différences et unir nos cœurs. Let Us Shine !\n \n\n \nBilletterie
URL:https://ecume-montpellier.fr/event/concert-ensemble-choral-let-us-shine-maison-des-choeurs-4/
LOCATION:Maison des Chœurs\, Montpellier\, Place Albert 1er\, Montpellier\, 34090\, France
CATEGORIES:Concert
END:VEVENT
BEGIN:VEVENT
DTSTART;TZID=Europe/Paris:20250612T200000
DTEND;TZID=Europe/Paris:20250612T213000
DTSTAMP:20260419T184133
CREATED:20250430T081123Z
LAST-MODIFIED:20250430T091610Z
UID:2452-1749758400-1749763800@ecume-montpellier.fr
SUMMARY:Concert Ensemble Choral – Let Us Shine – Maison des Chœurs
DESCRIPTION:Cette année encore\, l’Ensemble Choral Universitaire de Montpellier ECUME vous présente un spectacle original\, dirigé par nos chef de chœur\, Léo Richomme\, et pianiste\, Christèle Chambourbon.\n \n\n    Au programme\, Eric Whitacre\, Leonard Bernstein\, Stephan Nicolay et bien d’autres. En ces temps incertains\, comment faire vivre la lumière qui est en nous et qui nous anime ? Par la musique ! ECUME vous propose un parcours musical vibrant pour transcender nos différences et unir nos cœurs. Let Us Shine !\n \n\n \nBilletterie
URL:https://ecume-montpellier.fr/event/concert-ensemble-choral-let-us-shine-maison-des-choeurs-3/
LOCATION:Maison des Chœurs\, Montpellier\, Place Albert 1er\, Montpellier\, 34090\, France
CATEGORIES:Concert
END:VEVENT
END:VCALENDAR