BEGIN:VCALENDAR
VERSION:2.0
PRODID:-//Ecume Montpellier - ECPv6.15.20//NONSGML v1.0//EN
CALSCALE:GREGORIAN
METHOD:PUBLISH
X-WR-CALNAME:Ecume Montpellier
X-ORIGINAL-URL:https://ecume-montpellier.fr
X-WR-CALDESC:Évènements pour Ecume Montpellier
REFRESH-INTERVAL;VALUE=DURATION:PT1H
X-Robots-Tag:noindex
X-PUBLISHED-TTL:PT1H
BEGIN:VTIMEZONE
TZID:Europe/Paris
BEGIN:DAYLIGHT
TZOFFSETFROM:+0100
TZOFFSETTO:+0200
TZNAME:CEST
DTSTART:20230326T010000
END:DAYLIGHT
BEGIN:STANDARD
TZOFFSETFROM:+0200
TZOFFSETTO:+0100
TZNAME:CET
DTSTART:20231029T010000
END:STANDARD
BEGIN:DAYLIGHT
TZOFFSETFROM:+0100
TZOFFSETTO:+0200
TZNAME:CEST
DTSTART:20240331T010000
END:DAYLIGHT
BEGIN:STANDARD
TZOFFSETFROM:+0200
TZOFFSETTO:+0100
TZNAME:CET
DTSTART:20241027T010000
END:STANDARD
BEGIN:DAYLIGHT
TZOFFSETFROM:+0100
TZOFFSETTO:+0200
TZNAME:CEST
DTSTART:20250330T010000
END:DAYLIGHT
BEGIN:STANDARD
TZOFFSETFROM:+0200
TZOFFSETTO:+0100
TZNAME:CET
DTSTART:20251026T010000
END:STANDARD
END:VTIMEZONE
BEGIN:VEVENT
DTSTART;TZID=Europe/Paris:20240604T203000
DTEND;TZID=Europe/Paris:20240604T220000
DTSTAMP:20260421T112908
CREATED:20240531T105550Z
LAST-MODIFIED:20240531T105640Z
UID:2361-1717533000-1717538400@ecume-montpellier.fr
SUMMARY:Concert POP CULTE
DESCRIPTION:
URL:https://ecume-montpellier.fr/event/concert-pop-culte/
LOCATION:Maison des Chœurs\, Montpellier\, Place Albert 1er\, Montpellier\, 34090\, France
CATEGORIES:Concert
ATTACH;FMTTYPE=image/jpeg:https://ecume-montpellier.fr/wp-content/uploads/2024/05/POP-CULTE.jpg
END:VEVENT
BEGIN:VEVENT
DTSTART;TZID=Europe/Paris:20240605T203000
DTEND;TZID=Europe/Paris:20240605T220000
DTSTAMP:20260421T112908
CREATED:20240531T105816Z
LAST-MODIFIED:20240531T105816Z
UID:2363-1717619400-1717624800@ecume-montpellier.fr
SUMMARY:Concert POP CULTE
DESCRIPTION:
URL:https://ecume-montpellier.fr/event/concert-pop-culte-2/
LOCATION:Maison des Chœurs\, Montpellier\, Place Albert 1er\, Montpellier\, 34090\, France
CATEGORIES:Concert
ATTACH;FMTTYPE=image/jpeg:https://ecume-montpellier.fr/wp-content/uploads/2024/05/POP-CULTE.jpg
END:VEVENT
BEGIN:VEVENT
DTSTART;TZID=Europe/Paris:20240606T203000
DTEND;TZID=Europe/Paris:20240606T220000
DTSTAMP:20260421T112908
CREATED:20240531T110124Z
LAST-MODIFIED:20240531T110125Z
UID:2365-1717705800-1717711200@ecume-montpellier.fr
SUMMARY:Concert POP CULTE
DESCRIPTION:
URL:https://ecume-montpellier.fr/event/concert-pop-culte-3/
LOCATION:Maison des Chœurs\, Montpellier\, Place Albert 1er\, Montpellier\, 34090\, France
CATEGORIES:Concert
ATTACH;FMTTYPE=image/jpeg:https://ecume-montpellier.fr/wp-content/uploads/2024/05/POP-CULTE.jpg
END:VEVENT
END:VCALENDAR