BEGIN:VCALENDAR
VERSION:2.0
PRODID:-//Ecume Montpellier - ECPv6.15.20//NONSGML v1.0//EN
CALSCALE:GREGORIAN
METHOD:PUBLISH
X-WR-CALNAME:Ecume Montpellier
X-ORIGINAL-URL:https://ecume-montpellier.fr
X-WR-CALDESC:Évènements pour Ecume Montpellier
REFRESH-INTERVAL;VALUE=DURATION:PT1H
X-Robots-Tag:noindex
X-PUBLISHED-TTL:PT1H
BEGIN:VTIMEZONE
TZID:Europe/Paris
BEGIN:DAYLIGHT
TZOFFSETFROM:+0100
TZOFFSETTO:+0200
TZNAME:CEST
DTSTART:20220327T010000
END:DAYLIGHT
BEGIN:STANDARD
TZOFFSETFROM:+0200
TZOFFSETTO:+0100
TZNAME:CET
DTSTART:20221030T010000
END:STANDARD
BEGIN:DAYLIGHT
TZOFFSETFROM:+0100
TZOFFSETTO:+0200
TZNAME:CEST
DTSTART:20230326T010000
END:DAYLIGHT
BEGIN:STANDARD
TZOFFSETFROM:+0200
TZOFFSETTO:+0100
TZNAME:CET
DTSTART:20231029T010000
END:STANDARD
BEGIN:DAYLIGHT
TZOFFSETFROM:+0100
TZOFFSETTO:+0200
TZNAME:CEST
DTSTART:20240331T010000
END:DAYLIGHT
BEGIN:STANDARD
TZOFFSETFROM:+0200
TZOFFSETTO:+0100
TZNAME:CET
DTSTART:20241027T010000
END:STANDARD
END:VTIMEZONE
BEGIN:VEVENT
DTSTART;VALUE=DATE:20230514
DTEND;VALUE=DATE:20230515
DTSTAMP:20260422T085226
CREATED:20230427T160715Z
LAST-MODIFIED:20230427T160715Z
UID:2237-1684022400-1684108799@ecume-montpellier.fr
SUMMARY:Festival Hérault les Choeurs
DESCRIPTION:
URL:https://ecume-montpellier.fr/event/festival-herault-les-choeurs/
LOCATION:Domaine d’Ô\, Montpellier\, 178 rue de la Carrierasse\, Montpellier\, 34090\, France
CATEGORIES:Concert,Festival
END:VEVENT
BEGIN:VEVENT
DTSTART;TZID=Europe/Paris:20230517T200000
DTEND;TZID=Europe/Paris:20230517T213000
DTSTAMP:20260422T085226
CREATED:20230427T153541Z
LAST-MODIFIED:20230427T161349Z
UID:2230-1684353600-1684359000@ecume-montpellier.fr
SUMMARY:Concert faculté d'économie Richter
DESCRIPTION:
URL:https://ecume-montpellier.fr/event/concert-faculte-deconomie-richter/
LOCATION:Faculté d’Economie de Montpellier\, campus Richter\, Montpellier\, France
CATEGORIES:Concert
END:VEVENT
END:VCALENDAR