BEGIN:VCALENDAR
VERSION:2.0
PRODID:-//Ecume Montpellier - ECPv6.15.20//NONSGML v1.0//EN
CALSCALE:GREGORIAN
METHOD:PUBLISH
X-ORIGINAL-URL:https://ecume-montpellier.fr
X-WR-CALDESC:Évènements pour Ecume Montpellier
REFRESH-INTERVAL;VALUE=DURATION:PT1H
X-Robots-Tag:noindex
X-PUBLISHED-TTL:PT1H
BEGIN:VTIMEZONE
TZID:Europe/Paris
BEGIN:DAYLIGHT
TZOFFSETFROM:+0100
TZOFFSETTO:+0200
TZNAME:CEST
DTSTART:20240331T010000
END:DAYLIGHT
BEGIN:STANDARD
TZOFFSETFROM:+0200
TZOFFSETTO:+0100
TZNAME:CET
DTSTART:20241027T010000
END:STANDARD
BEGIN:DAYLIGHT
TZOFFSETFROM:+0100
TZOFFSETTO:+0200
TZNAME:CEST
DTSTART:20250330T010000
END:DAYLIGHT
BEGIN:STANDARD
TZOFFSETFROM:+0200
TZOFFSETTO:+0100
TZNAME:CET
DTSTART:20251026T010000
END:STANDARD
BEGIN:DAYLIGHT
TZOFFSETFROM:+0100
TZOFFSETTO:+0200
TZNAME:CEST
DTSTART:20260329T010000
END:DAYLIGHT
BEGIN:STANDARD
TZOFFSETFROM:+0200
TZOFFSETTO:+0100
TZNAME:CET
DTSTART:20261025T010000
END:STANDARD
END:VTIMEZONE
BEGIN:VEVENT
DTSTART;TZID=Europe/Paris:20250507T200000
DTEND;TZID=Europe/Paris:20250507T213000
DTSTAMP:20260419T220127
CREATED:20250430T080136Z
LAST-MODIFIED:20250430T091838Z
UID:2438-1746648000-1746653400@ecume-montpellier.fr
SUMMARY:Concert Ensemble Choral - Let Us Shine - Université Paul Valéry
DESCRIPTION:Cette année encore\, l’Ensemble Choral Universitaire de Montpellier ECUME vous présente un spectacle original\, dirigé par nos chef de chœur\, Léo Richomme\, et pianiste\, Christèle Chambourbon.\n \n\n    Au programme\, Eric Whitacre\, Leonard Bernstein\, Stephan Nicolay et bien d’autres. En ces temps incertains\, comment faire vivre la lumière qui est en nous et qui nous anime ? Par la musique ! ECUME vous propose un parcours musical vibrant pour transcender nos différences et unir nos cœurs. Let Us Shine !\n \n\n \nBilletterie
URL:https://ecume-montpellier.fr/event/concert-ensemble-choral-let-us-shine-universite-paul-valery/
LOCATION:Université Paul Valéry\, Montpellier\, Rte de Mende\, Montpellier\, 34090\, France
CATEGORIES:Concert
END:VEVENT
END:VCALENDAR